BEGIN:VCALENDAR
VERSION:2.0
PRODID:-//Optimist Club of St. Louis, Missouri - ECPv6.15.20//NONSGML v1.0//EN
CALSCALE:GREGORIAN
METHOD:PUBLISH
X-WR-CALNAME:Optimist Club of St. Louis, Missouri
X-ORIGINAL-URL:https://www.stloptimists.org
X-WR-CALDESC:Events for Optimist Club of St. Louis, Missouri
REFRESH-INTERVAL;VALUE=DURATION:PT1H
X-Robots-Tag:noindex
X-PUBLISHED-TTL:PT1H
BEGIN:VTIMEZONE
TZID:America/Chicago
BEGIN:DAYLIGHT
TZOFFSETFROM:-0600
TZOFFSETTO:-0500
TZNAME:CDT
DTSTART:20210314T080000
END:DAYLIGHT
BEGIN:STANDARD
TZOFFSETFROM:-0500
TZOFFSETTO:-0600
TZNAME:CST
DTSTART:20211107T070000
END:STANDARD
BEGIN:DAYLIGHT
TZOFFSETFROM:-0600
TZOFFSETTO:-0500
TZNAME:CDT
DTSTART:20220313T080000
END:DAYLIGHT
BEGIN:STANDARD
TZOFFSETFROM:-0500
TZOFFSETTO:-0600
TZNAME:CST
DTSTART:20221106T070000
END:STANDARD
BEGIN:DAYLIGHT
TZOFFSETFROM:-0600
TZOFFSETTO:-0500
TZNAME:CDT
DTSTART:20230312T080000
END:DAYLIGHT
BEGIN:STANDARD
TZOFFSETFROM:-0500
TZOFFSETTO:-0600
TZNAME:CST
DTSTART:20231105T070000
END:STANDARD
BEGIN:DAYLIGHT
TZOFFSETFROM:-0600
TZOFFSETTO:-0500
TZNAME:CDT
DTSTART:20240310T080000
END:DAYLIGHT
BEGIN:STANDARD
TZOFFSETFROM:-0500
TZOFFSETTO:-0600
TZNAME:CST
DTSTART:20241103T070000
END:STANDARD
BEGIN:DAYLIGHT
TZOFFSETFROM:-0600
TZOFFSETTO:-0500
TZNAME:CDT
DTSTART:20250309T080000
END:DAYLIGHT
BEGIN:STANDARD
TZOFFSETFROM:-0500
TZOFFSETTO:-0600
TZNAME:CST
DTSTART:20251102T070000
END:STANDARD
END:VTIMEZONE
BEGIN:VEVENT
DTSTART;TZID=America/Chicago:20240703T120000
DTEND;TZID=America/Chicago:20240703T130000
DTSTAMP:20260423T143652
CREATED:20240630T023858Z
LAST-MODIFIED:20240630T023957Z
UID:10825-1720008000-1720011600@www.stloptimists.org
SUMMARY:July 2024 Club Meeting in Person
DESCRIPTION:July 3rd 2024 at 12:00 pm \nLocation – Optimist International Head Quarters – \n4494 Lindell Blvd St. Louis MO 63108 – Parking is behind the building \nLunch – from Red Robin \nLunch will be covered by the FOY – if you want to donate $15 you can an envelop will be passed around.\n\n\n\n\n\n\n\n\n\n\n\n\n\n\n\n\nAgenda\n\nStart meeting\nAdopt previous minutes\nClub President welcomes everyone and says something inspirational. *no pressure\nPresident Adam and Treasurer Karl welcome our Sponsored Junior Golfer Sidney Roseman and family – Sidney placed 2nd for Girls 10-12 at EMO Jr Golfer Tournament\nUpdate to Spring 2024 grants and info on check event – Jennifer Bagwell\nLaunch of Optimist Club of St Louis 108 Years – Barrel Benefit 2024 Event – Adam Bagwell\nAmy Keller – Go over upcoming JOI Convention in St. Louis and Oratorical. Get your JOI Clubs started and 2 Youth from each Sponsored to attend!\nOptimist International 2024 Convention in Niagria Falls Canida report – Jennifer Bagwell\nEMO Convention in Columbia MO Aug 16 – 18 2024 early bird reg deadline and banquet\nSeptember end of Optimist Year Club party and event ideas – looking for ideas or we stick with the same venue and games.
URL:https://www.stloptimists.org/event/july-2024-club-meeting-in-person/
LOCATION:Optimist International\, 4494 Lindell Blvd\, St Louis\, MO\, United States
CATEGORIES:Club Meeting
ATTACH;FMTTYPE=image/png:https://www.stloptimists.org/wp-content/uploads/2024/03/Optimist-Club-of-St.-Louis.png
ORGANIZER;CN="Optimist Club of St. Louis":MAILTO:optimistmo@gmail.com
END:VEVENT
BEGIN:VEVENT
DTSTART;TZID=America/Chicago:20240328T190000
DTEND;TZID=America/Chicago:20240328T203000
DTSTAMP:20260423T143652
CREATED:20240316T191552Z
LAST-MODIFIED:20240316T194352Z
UID:10232-1711652400-1711657800@www.stloptimists.org
SUMMARY:Optimist Spring 2024 Club Grant Webinar Session
DESCRIPTION:Welcome to the 2024 Optimist Club of St. Louis Spring Grants!\nThis year the Optimist Club of St. Louis Spring Grant Cycle will open 04/01/2024\, April 1st\, 2024 and close 05/15/2024\, May 15th\, 2024. \nThere will be different grant forms depending on the type of grant your organization wishes to apply for. There will be an online Zoom webinar on March 28th 2024 at 7:00 PM CST to go over the types of grants and application process. Questions will be covered at the end of the webinar presentation. \nThe Optimist Club of St. Louis Grant Host \nGrant Administrator Past President Jennifer Bagwell \nClub President: Adam Bagwell \nClub Treasurer: Karl Tyminsky \nClub Secretary: Tamyka Perine \nPlease register for the webinar here: https://forms.gle/cbKmsDSv3yntPaCE7
URL:https://www.stloptimists.org/event/optimist-spring-2024-club-grant-webinar-session/
LOCATION:MO
CATEGORIES:Club Meeting,Grants
ATTACH;FMTTYPE=image/png:https://www.stloptimists.org/wp-content/uploads/2024/03/Spring-Grant-2024-Webinar-1.png
END:VEVENT
BEGIN:VEVENT
DTSTART;TZID=America/Chicago:20221102T120000
DTEND;TZID=America/Chicago:20221102T130000
DTSTAMP:20260423T143652
CREATED:20221027T221551Z
LAST-MODIFIED:20221116T014010Z
UID:4668-1667390400-1667394000@www.stloptimists.org
SUMMARY:Optimist Club of St Louis Meeting
DESCRIPTION:Location: Optimist International 4494 Lindell Blvd \nWednesday Nov 2nd 2022 12:00 pm Noon CST \n4494 Lindell Blvd. \nHosted by Optimist International \nLunch: Pappy’s BBQ \nCost per: $15 if you plan to eat
URL:https://www.stloptimists.org/event/optimist-club-of-st-louis-meeting/
LOCATION:Optimist International\, 4494 Lindell Blvd\, St Louis\, MO\, United States
CATEGORIES:Club Meeting
ATTACH;FMTTYPE=image/png:https://www.stloptimists.org/wp-content/uploads/2022/10/Optimist-Club-of-St-Louis.png
END:VEVENT
END:VCALENDAR