BEGIN:VCALENDAR
VERSION:2.0
PRODID:-//Optimist Club of St. Louis, Missouri - ECPv6.15.20//NONSGML v1.0//EN
CALSCALE:GREGORIAN
METHOD:PUBLISH
X-ORIGINAL-URL:https://www.stloptimists.org
X-WR-CALDESC:Events for Optimist Club of St. Louis, Missouri
REFRESH-INTERVAL;VALUE=DURATION:PT1H
X-Robots-Tag:noindex
X-PUBLISHED-TTL:PT1H
BEGIN:VTIMEZONE
TZID:America/Chicago
BEGIN:DAYLIGHT
TZOFFSETFROM:-0600
TZOFFSETTO:-0500
TZNAME:CDT
DTSTART:20210314T080000
END:DAYLIGHT
BEGIN:STANDARD
TZOFFSETFROM:-0500
TZOFFSETTO:-0600
TZNAME:CST
DTSTART:20211107T070000
END:STANDARD
BEGIN:DAYLIGHT
TZOFFSETFROM:-0600
TZOFFSETTO:-0500
TZNAME:CDT
DTSTART:20220313T080000
END:DAYLIGHT
BEGIN:STANDARD
TZOFFSETFROM:-0500
TZOFFSETTO:-0600
TZNAME:CST
DTSTART:20221106T070000
END:STANDARD
BEGIN:DAYLIGHT
TZOFFSETFROM:-0600
TZOFFSETTO:-0500
TZNAME:CDT
DTSTART:20230312T080000
END:DAYLIGHT
BEGIN:STANDARD
TZOFFSETFROM:-0500
TZOFFSETTO:-0600
TZNAME:CST
DTSTART:20231105T070000
END:STANDARD
BEGIN:DAYLIGHT
TZOFFSETFROM:-0600
TZOFFSETTO:-0500
TZNAME:CDT
DTSTART:20240310T080000
END:DAYLIGHT
BEGIN:STANDARD
TZOFFSETFROM:-0500
TZOFFSETTO:-0600
TZNAME:CST
DTSTART:20241103T070000
END:STANDARD
END:VTIMEZONE
BEGIN:VEVENT
DTSTART;TZID=America/Chicago:20230505T080000
DTEND;TZID=America/Chicago:20230506T170000
DTSTAMP:20260423T191557
CREATED:20221116T022323Z
LAST-MODIFIED:20230104T044813Z
UID:5351-1683273600-1683392400@www.stloptimists.org
SUMMARY:2022 - 2023 EMO 3rd Quarter Conference
DESCRIPTION:Optimist International\nEast Missouri District – EMO\n3rd Quarter District Conference\nMay 5-6\, 2023 \n\n\n\n\n\nHilton STL Airport:\n10330 Natural Bridge Rd.\nSt. Louis\, MO 63134
URL:https://www.stloptimists.org/event/2022-2023-emo-3rd-quarter-conference/
LOCATION:Hilton Airpost St Louis Hotel\, 10330 Natural Bridge Rd.\, St Louis\, Missouri\, 63134
CATEGORIES:Conferences,District Level Programs,EMO
ATTACH;FMTTYPE=image/png:https://www.stloptimists.org/wp-content/uploads/2022/11/EMO-3nd-Quarter-District-Conference.png
END:VEVENT
BEGIN:VEVENT
DTSTART;TZID=America/Chicago:20230224T080000
DTEND;TZID=America/Chicago:20230225T170000
DTSTAMP:20260423T191557
CREATED:20221116T020948Z
LAST-MODIFIED:20230104T044757Z
UID:5337-1677225600-1677344400@www.stloptimists.org
SUMMARY:2nd Quarter District Conference
DESCRIPTION:Optimist International\nEast Missouri District – EMO\n2nd Quarter District Conference\nFebruary 24-25\, 2023 \n\n\n\n\n\nHilton STL Airport:\n10330 Natural Bridge Rd.\nSt. Louis\, MO 63134
URL:https://www.stloptimists.org/event/2nd-quarter-district-conference/
LOCATION:Hilton Airpost St Louis Hotel\, 10330 Natural Bridge Rd.\, St Louis\, Missouri\, 63134
CATEGORIES:Conferences,District Level Programs,EMO
ATTACH;FMTTYPE=image/png:https://www.stloptimists.org/wp-content/uploads/2022/11/EMO-2nd-Quarter-District-Conference.png
END:VEVENT
BEGIN:VEVENT
DTSTART;TZID=America/Chicago:20221115T000000
DTEND;TZID=America/Chicago:20221115T000000
DTSTAMP:20260423T191557
CREATED:20221116T014106Z
LAST-MODIFIED:20221116T014106Z
UID:2586-1668470400-1668470400@www.stloptimists.org
SUMMARY:1st Quarter District Conference
DESCRIPTION:
URL:https://www.stloptimists.org/event/1st-quarter-district-conference/
LOCATION:Missouri
CATEGORIES:Conferences,EMO
END:VEVENT
END:VCALENDAR