BEGIN:VCALENDAR
VERSION:2.0
PRODID:-//Optimist Club of St. Louis, Missouri - ECPv6.15.20//NONSGML v1.0//EN
CALSCALE:GREGORIAN
METHOD:PUBLISH
X-WR-CALNAME:Optimist Club of St. Louis, Missouri
X-ORIGINAL-URL:https://www.stloptimists.org
X-WR-CALDESC:Events for Optimist Club of St. Louis, Missouri
REFRESH-INTERVAL;VALUE=DURATION:PT1H
X-Robots-Tag:noindex
X-PUBLISHED-TTL:PT1H
BEGIN:VTIMEZONE
TZID:America/Chicago
BEGIN:DAYLIGHT
TZOFFSETFROM:-0600
TZOFFSETTO:-0500
TZNAME:CDT
DTSTART:20230312T080000
END:DAYLIGHT
BEGIN:STANDARD
TZOFFSETFROM:-0500
TZOFFSETTO:-0600
TZNAME:CST
DTSTART:20231105T070000
END:STANDARD
BEGIN:DAYLIGHT
TZOFFSETFROM:-0600
TZOFFSETTO:-0500
TZNAME:CDT
DTSTART:20240310T080000
END:DAYLIGHT
BEGIN:STANDARD
TZOFFSETFROM:-0500
TZOFFSETTO:-0600
TZNAME:CST
DTSTART:20241103T070000
END:STANDARD
BEGIN:DAYLIGHT
TZOFFSETFROM:-0600
TZOFFSETTO:-0500
TZNAME:CDT
DTSTART:20250309T080000
END:DAYLIGHT
BEGIN:STANDARD
TZOFFSETFROM:-0500
TZOFFSETTO:-0600
TZNAME:CST
DTSTART:20251102T070000
END:STANDARD
END:VTIMEZONE
BEGIN:VEVENT
DTSTART;TZID=America/Chicago:20240803T100000
DTEND;TZID=America/Chicago:20240803T150000
DTSTAMP:20260423T142205
CREATED:20240629T211747Z
LAST-MODIFIED:20240803T143645Z
UID:10619-1722679200-1722697200@www.stloptimists.org
SUMMARY:CANCELLED - Bourbon Barrel Benefit 2024
DESCRIPTION:THIS EVENT HAS BEEN CANCELLED AND WILL BE RESCHEDULED\nCelebrate the 108th anniversary of the Optimist Club of St. Louis with our exclusive Barrel Benefit 2024! For just $108\, you receive a bottle\, a ticket to our unique bottling event\, and a chance to be a part of the sampling and barrel-picking. \n\n\nBest of all\, each purchase directly supports youth and community programs. \n\n(Pre-online only) July 26th 5:00 pm live on Facebook page\n\nBarrel Pick Selection – Every ticket automatically enters you into our raffle for a chance to be part of the elite group that selects our featured barrel. 10 tickets will be pulled on July 26th. The winners will be phones and have 24 hours to respond for their spot\, or we will move on to the next until all 10 spots are filled.\n\n\nAug 3rd Day of the event:\n\n10 am Exclusive for the winners of the Barrel Raffle Pick – go behind and tour Nobletons Distillery. Then with the group taste and sample a selection of barrels score your top favorites. Final barrel is selected based on group scores.\n12 pm Unique Bottling Experience begins –\nYour ticket lets you personally bottle your own spirit after the barrel pick\, making each bottle a one-of-a-kind treasure.\nBonus – Each raffle ticket gives you one entry for one of the many raffle baskets during the event.\n\n\n\n  \nhttps://www.stloptimists.org/wp-content/uploads/2024/06/2024-Barrel-Benefit-Event-Optimist-Club-of-St-Louis.mp4\n  \nThere will also be another benefit the day of – the Nobletons Distilling House 1st Annual Charity Car Show – SATURDAY\, AUGUST 3\, 2024 \nAT 10AM – 3 PM \n(tickets purchased are not affiliated with this event but we encourage all attendees to enjoy and support this event as well.) \nCar Show: 10 AM – 3 PM (Registration opens at 8 AM)\n After Party: 3 PM – 7 PM\nEnjoy a day filled with:\nDelicious coffee from Just Hank’s\nFresh baked pastries from Birdie’s Bakeshop\n Music\n Delicious Food from Vets Rolling Smoke BBQ\n Stunning Cars\n\nAll proceeds go to charity\, so come out\, have fun\, and support a great cause!
URL:https://www.stloptimists.org/event/bourbon-barrel-benefit-2024/
LOCATION:Nobletons Distilling House\, 545 Commercial Dr\, Union\, MO\, 63084\, United States
CATEGORIES:Fundrasing
ATTACH;FMTTYPE=image/png:https://www.stloptimists.org/wp-content/uploads/2024/06/2024-Barrel-Benefit-1.png
END:VEVENT
END:VCALENDAR