BEGIN:VCALENDAR
VERSION:2.0
PRODID:-//Optimist Club of St. Louis, Missouri - ECPv6.15.20//NONSGML v1.0//EN
CALSCALE:GREGORIAN
METHOD:PUBLISH
X-ORIGINAL-URL:https://www.stloptimists.org
X-WR-CALDESC:Events for Optimist Club of St. Louis, Missouri
REFRESH-INTERVAL;VALUE=DURATION:PT1H
X-Robots-Tag:noindex
X-PUBLISHED-TTL:PT1H
BEGIN:VTIMEZONE
TZID:America/Chicago
BEGIN:DAYLIGHT
TZOFFSETFROM:-0600
TZOFFSETTO:-0500
TZNAME:CDT
DTSTART:20210314T080000
END:DAYLIGHT
BEGIN:STANDARD
TZOFFSETFROM:-0500
TZOFFSETTO:-0600
TZNAME:CST
DTSTART:20211107T070000
END:STANDARD
BEGIN:DAYLIGHT
TZOFFSETFROM:-0600
TZOFFSETTO:-0500
TZNAME:CDT
DTSTART:20220313T080000
END:DAYLIGHT
BEGIN:STANDARD
TZOFFSETFROM:-0500
TZOFFSETTO:-0600
TZNAME:CST
DTSTART:20221106T070000
END:STANDARD
BEGIN:DAYLIGHT
TZOFFSETFROM:-0600
TZOFFSETTO:-0500
TZNAME:CDT
DTSTART:20230312T080000
END:DAYLIGHT
BEGIN:STANDARD
TZOFFSETFROM:-0500
TZOFFSETTO:-0600
TZNAME:CST
DTSTART:20231105T070000
END:STANDARD
BEGIN:DAYLIGHT
TZOFFSETFROM:-0600
TZOFFSETTO:-0500
TZNAME:CDT
DTSTART:20240310T080000
END:DAYLIGHT
BEGIN:STANDARD
TZOFFSETFROM:-0500
TZOFFSETTO:-0600
TZNAME:CST
DTSTART:20241103T070000
END:STANDARD
END:VTIMEZONE
BEGIN:VEVENT
DTSTART;TZID=America/Chicago:20231209T080000
DTEND;TZID=America/Chicago:20231209T133000
DTSTAMP:20260423T192408
CREATED:20231031T220103Z
LAST-MODIFIED:20231203T134919Z
UID:9078-1702108800-1702128600@www.stloptimists.org
SUMMARY:Holiday Basket event 2023
DESCRIPTION:The Optimist Club of St. Louis is proud to be a part of this initiative\, helping to spread holiday cheer and provide support to families in need. \nFor more information about how you can get involved or donate to this cause\, please contact us at Youth & Family Center: 314.783.1021 or Wesley House: 314.385.1000. \nTo find out more about the Optimist Club of St. Louis and its 107 years of serving the St. Louis youth and community. \n 
URL:https://www.stloptimists.org/event/9078/
LOCATION:Youth and Family Center\, 818 Cass Ave\,\, St. Louis\, Missouri\, 63106
CATEGORIES:Holiday Event,Volunteer Opportunities
ATTACH;FMTTYPE=image/png:https://www.stloptimists.org/wp-content/uploads/2023/12/Optimist-Club-of-St.-Louis-Sponsoring-2023-Annual-Holiday-Basket-Project.png
ORGANIZER;CN="Optimist Club of St. Louis":MAILTO:optimistmo@gmail.com
END:VEVENT
BEGIN:VEVENT
DTSTART;TZID=America/Chicago:20231116T063000
DTEND;TZID=America/Chicago:20231116T090000
DTSTAMP:20260423T192408
CREATED:20231031T220345Z
LAST-MODIFIED:20231116T012004Z
UID:9082-1700116200-1700125200@www.stloptimists.org
SUMMARY:Old Newsboys Day on November 16\, 2023
DESCRIPTION:Optimist Club of St. Louis will be volunteering for Old Newsboys Day on November 16\, 2023. Every year\, the club helps fundraise for Old Newsboys. This is a great opportunity to give back to the community and sell some papers. If you’re interested in participating\, please contact Harvey for more information.
URL:https://www.stloptimists.org/event/old-newsboys-day-on-november-16-2023/
LOCATION:OLD NEWS BOYS\, 6621 delmar blvd\, St Louis\, Missouri\, 63130
CATEGORIES:Holiday Event,Volunteer Opportunities
ATTACH;FMTTYPE=image/png:https://www.stloptimists.org/wp-content/uploads/2022/12/st-louis-post-old-news-boys-breaking-news.png
END:VEVENT
BEGIN:VEVENT
DTSTART;TZID=America/Chicago:20221222T150000
DTEND;TZID=America/Chicago:20221222T180000
DTSTAMP:20260423T192408
CREATED:20221202T062259Z
LAST-MODIFIED:20221202T062259Z
UID:5765-1671721200-1671732000@www.stloptimists.org
SUMMARY:Photos with Santa at Youth and Family Center with Optimist Club of St. Louis Elves
DESCRIPTION:Join us on Dec 22\, from 3-6 pm at the Youth and Family Center where we will have a special visit by Santa. Optimist Club of St. Louis elf Members will be joining in to take photos of kids with Santa. \nPlease Contact Youth and Family Center for more info.
URL:https://www.stloptimists.org/event/photos-with-santa-at-youth-and-family-center-with-optimist-club-of-st-louis-elves/
LOCATION:Youth and Family Center\, 818 Cass Ave\,\, St. Louis\, Missouri\, 63106
CATEGORIES:Holiday Event,Volunteer Opportunities
ATTACH;FMTTYPE=image/png:https://www.stloptimists.org/wp-content/uploads/2022/12/Holiday-Santa-2.png
END:VEVENT
BEGIN:VEVENT
DTSTART;TZID=America/Chicago:20221210T080000
DTEND;TZID=America/Chicago:20221210T170000
DTSTAMP:20260423T192408
CREATED:20221027T225304Z
LAST-MODIFIED:20221116T013750Z
UID:4695-1670659200-1670691600@www.stloptimists.org
SUMMARY:Optimist Club of St. Louis sponsoring annual Christmas Basket program to help benefit the community
DESCRIPTION:ST. LOUIS\, MO – The Optimist Club of St. Louis MO\, is sponsoring community efforts through funds and volunteers\, along with Wesley House Association & Youth and Family Center to help benefit the children of St. Louis MO. \n\n\nChristmas food baskets will consist of enough fixings needed to provide full course meals for families this holiday season. The Christmas Food Basket comes complete with bread\, potatoes\, fruit (apples & oranges)\, gravy\, canned goods (peas\, green beans\, and either canned yams or corn)\, plus a $15 Schnucks gift card. \n\n\nThe Optimist Club of St. Louis invites the community to come volunteer in support of this effort on December 1o\, 2022\, at Wesley House Association\, Location: 4507 Lee Ave St. Louis\, MO 63115.\n\nThere are two shifts available from 9:00 am – 11:00am and 11:00am – 1:00 pm to volunteer.\nVolunteer sign up coming soon!\nThis is a great opportunity for any youth in need of community service hours to graduate. Club Members will be on hand to fill out and sign any volunteer forms.
URL:https://www.stloptimists.org/event/stl-holiday-basket-2022/
LOCATION:Wesley House\, 4507 E Lee Ave\, St Louis\, Missouri\, 63115
CATEGORIES:Volunteer Opportunities
ATTACH;FMTTYPE=image/png:https://www.stloptimists.org/wp-content/uploads/2022/10/Optimist-Club-of-St.-Louis-sponsoring-annual-Christmas-Basket-program-to-help-benefit-the-community.png
END:VEVENT
BEGIN:VEVENT
DTSTART;TZID=America/Chicago:20221117T063000
DTEND;TZID=America/Chicago:20221117T083000
DTSTAMP:20260423T192408
CREATED:20221114T181315Z
LAST-MODIFIED:20221116T013840Z
UID:5256-1668666600-1668673800@www.stloptimists.org
SUMMARY:YOU'RE INVITED TO VOLUNTEER - OLD NEWS BOYS
DESCRIPTION:Come and join us on our annual OLD NEWS BOYS event. \nNov 17\, 2022 from 6:30 – 8:30 am at the corner of Jefferson and Market. \nOld Newsboys Campaign for Kids is a volunteer-driven charitable project of the St. Louis Post-Dispatch. Find more at www.oldnewsboysday.org
URL:https://www.stloptimists.org/event/youre-invited-to-volunteer-old-news-boys/
LOCATION:OLD NEWS BOYS\, 6621 delmar blvd\, St Louis\, Missouri\, 63130
CATEGORIES:Volunteer Opportunities
ATTACH;FMTTYPE=image/png:https://www.stloptimists.org/wp-content/uploads/2021/11/The-Most-St.-Louis-Optimist-International-Club-Important-News-From-Around-The-World-2.png
END:VEVENT
END:VCALENDAR